BEGIN:VCALENDAR
VERSION:2.0
PRODID:-//23.29.59.35//NONSGML kigkonsult.se iCalcreator 2.26.9//
CALSCALE:GREGORIAN
METHOD:PUBLISH
X-WR-CALNAME:Virginia Service
X-WR-CALDESC:
X-FROM-URL:https://virginiaservice.virginia.gov
X-WR-TIMEZONE:America/New_York
BEGIN:VTIMEZONE
TZID:America/New_York
X-LIC-LOCATION:America/New_York
BEGIN:STANDARD
DTSTART:20201101T020000
TZOFFSETFROM:-0400
TZOFFSETTO:-0500
RDATE:20211107T020000,20221106T020000
TZNAME:EST
END:STANDARD
BEGIN:DAYLIGHT
DTSTART:20210314T020000
TZOFFSETFROM:-0500
TZOFFSETTO:-0400
RDATE:20220313T020000
TZNAME:EDT
END:DAYLIGHT
END:VTIMEZONE
BEGIN:VEVENT
UID:ai1ec-14939@virginiaservice.virginia.gov
DTSTAMP:20210524T220046Z
CATEGORIES;LANGUAGE=en-US:Advisory Board
CONTACT:
DESCRIPTION:
DTSTART;TZID=America/New_York:20211118T100000
DTEND;TZID=America/New_York:20211118T150000
LOCATION:Zoom Meeting @ Link TBA
SEQUENCE:0
SUMMARY:Advisory Board Meeting
URL:https://virginiaservice.virginia.gov/event/advisory-board-meeting-5/
X-COST-TYPE:free
END:VEVENT
END:VCALENDAR
